BEGIN:VCALENDAR
VERSION:2.0
PRODID:-//Stroud &amp; Tetbury District Scouts - ECPv6.15.20//NONSGML v1.0//EN
CALSCALE:GREGORIAN
METHOD:PUBLISH
X-WR-CALNAME:Stroud &amp; Tetbury District Scouts
X-ORIGINAL-URL:https://stscouts.org.uk
X-WR-CALDESC:Events for Stroud &amp; Tetbury District Scouts
REFRESH-INTERVAL;VALUE=DURATION:PT1H
X-Robots-Tag:noindex
X-PUBLISHED-TTL:PT1H
BEGIN:VTIMEZONE
TZID:UTC
BEGIN:STANDARD
TZOFFSETFROM:+0000
TZOFFSETTO:+0000
TZNAME:UTC
DTSTART:20250101T000000
END:STANDARD
END:VTIMEZONE
BEGIN:VEVENT
DTSTART;TZID=UTC:20260301T091500
DTEND;TZID=UTC:20260301T103000
DTSTAMP:20260419T164925
CREATED:20260211T204925Z
LAST-MODIFIED:20260211T204925Z
UID:4053-1772356500-1772361000@stscouts.org.uk
SUMMARY:Archery Taster Sessions – Scouts\, Explorers\, Network & Adult Volunteers
DESCRIPTION:BOOKING BY INDIVIDUALS \nOpen to all Scouts\, Explorers\, Network and Leaders in Stroud & Tetbury District \nThe District Shooting Team would like to invite you to experience an archery taster session at this month event. \nDate:           Sunday\, 1st March 2026\nVenue:         Leonard Stanley Scout Hut\, Downton Road\, Leonard Stanley\, GL10 3LT (///unwound.farmland.noted)\nTime:           9.15am – 10.30am\nCost:            £4 per participants \nTo sign up CLICK HERE
URL:https://stscouts.org.uk/event/archerymar26
LOCATION:Leonard Stanley Scout Hut\, Bath Road\, Leonard Stanley\, GL10 3LT
CATEGORIES:Adults,Explorers,Network,Scouts
END:VEVENT
BEGIN:VEVENT
DTSTART;TZID=UTC:20260301T104500
DTEND;TZID=UTC:20260301T120000
DTSTAMP:20260419T164925
CREATED:20260211T204632Z
LAST-MODIFIED:20260211T204632Z
UID:4051-1772361900-1772366400@stscouts.org.uk
SUMMARY:Air Rifle Shooting Sessions - Scouts\, Explorers\, Network & Adult Volunteers
DESCRIPTION:BOOKING BY INDIVIDUALS \nOpen to all Scouts\, Explorers\, Network and Leaders in Stroud & Tetbury District\nThe District Shooting Team would like to invite you to experience this month’s air rifle shooting taster session. \nDate:           Sunday\, 1st March 2026\nVenue:         Leonard Stanley Scout Hut\, Downton Road\, Leonard Stanley\, GL10 3LT (///unwound.farmland.noted)\nTime:          10.45am to 12pm (Taster Session)\nCost:            £4 per participants \nTo sign up CLICK HERE
URL:https://stscouts.org.uk/event/riflemar26
LOCATION:Leonard Stanley Scout Hut\, Bath Road\, Leonard Stanley\, GL10 3LT
CATEGORIES:Adults,Explorers,Network,Scouts
END:VEVENT
BEGIN:VEVENT
DTSTART;VALUE=DATE:20260426
DTEND;VALUE=DATE:20260427
DTSTAMP:20260419T164925
CREATED:20260109T162655Z
LAST-MODIFIED:20260109T162655Z
UID:4048-1777161600-1777247999@stscouts.org.uk
SUMMARY:St George's Day Celebration
DESCRIPTION:Make sure you save the date as we bring together everyone in Stroud & Tetbury District and celebrate St. George’s Day as one Unit.
URL:https://stscouts.org.uk/event/st-georges-day-celebration
LOCATION:St. Rose’s School\, Stroud\, Stratford Lawn\, Stroud\, Gloucestershire\, GL5 4AP\, United Kingdom
END:VEVENT
BEGIN:VEVENT
DTSTART;VALUE=DATE:20261024
DTEND;VALUE=DATE:20261025
DTSTAMP:20260419T164925
CREATED:20260109T162259Z
LAST-MODIFIED:20260109T162332Z
UID:4045-1792800000-1792886399@stscouts.org.uk
SUMMARY:Farrier Challenge 2026
DESCRIPTION:If you have never taken part in this event before the Farriers Challenge is a 3 mile(ish) night hike for Cubs across Selsley\, incorporating a wide variety of challenges and activities located at checkpoints along the route.  Starting and finishing at Penn Wood Scouting Centre\, teams of 3 to 5 participants start setting off from 4pm and should hopefully finish by 10pm. \nThe event is always looking for volunteers to make everything possible. \nSound interesting?  Make sure you save the date and keep an eye out for information being published closer to the event.
URL:https://stscouts.org.uk/event/farrier-challenge-2026
LOCATION:Penn Wood Scout Centre
CATEGORIES:Cubs
END:VEVENT
BEGIN:VEVENT
DTSTART;VALUE=DATE:20261114
DTEND;VALUE=DATE:20261115
DTSTAMP:20260419T164925
CREATED:20260109T162124Z
LAST-MODIFIED:20260109T162418Z
UID:685-1794614400-1794700799@stscouts.org.uk
SUMMARY:The Stomp 2026
DESCRIPTION:If you have never taken part in this event before The Stomp is a 8 mile(ish) night hike for Scouts and Explorers\, incorporating a wide variety of challenges and activities located at checkpoints along the route.  Starting and finishing at Penn Wood Scouting Centre\, teams of 3 to 5 Scouts start setting off from 4pm and should hopefully finish by 1am. \nThe event is always looking for volunteers to make everything possible. \nSound interesting?  Make sure you save the date and keep an eye out for information being published closer to the event.
URL:https://stscouts.org.uk/event/stomp-2026
LOCATION:Penn Wood Scout Centre
CATEGORIES:Explorers,Scouts
END:VEVENT
END:VCALENDAR